BEGIN:VCALENDAR
VERSION:2.0
PRODID:-//Kingstree Private School - ECPv6.15.20//NONSGML v1.0//EN
CALSCALE:GREGORIAN
METHOD:PUBLISH
X-WR-CALNAME:Kingstree Private School
X-ORIGINAL-URL:https://kingstreeps.org.za
X-WR-CALDESC:Events for Kingstree Private School
REFRESH-INTERVAL;VALUE=DURATION:PT1H
X-Robots-Tag:noindex
X-PUBLISHED-TTL:PT1H
BEGIN:VTIMEZONE
TZID:Africa/Johannesburg
BEGIN:STANDARD
TZOFFSETFROM:+0200
TZOFFSETTO:+0200
TZNAME:SAST
DTSTART:20250101T000000
END:STANDARD
END:VTIMEZONE
BEGIN:VEVENT
DTSTART;TZID=Africa/Johannesburg:20260307T170000
DTEND;TZID=Africa/Johannesburg:20260307T200000
DTSTAMP:20260419T194226
CREATED:20260126T140545Z
LAST-MODIFIED:20260126T201017Z
UID:7198-1772902800-1772913600@kingstreeps.org.za
SUMMARY:Gala Dinner - Celebrating 10 Years of Excellence
DESCRIPTION:Kingstree Private School proudly invites parents\, alumni\, partners\, and friends of the school to a Gala Dinner celebrating 10 years of excellence in Christ-centred education. \nThis special evening marks a decade of nurturing young minds\, shaping godly character\, and partnering with families to raise purposeful leaders. Guests will enjoy an elegant evening of fellowship\, reflection\, and thanksgiving as we honour God’s faithfulness and celebrate the journey of Kingstree Private School. \nJoin us as we look back with gratitude and look ahead with faith and vision.
URL:https://kingstreeps.org.za/event/gala-dinner-celebrating-10-years-of-excellence/
LOCATION:Cornerstone Church Auditorium\, 651 Park Street\, Pretoria\, Gauteng\, 0001\, South Africa
CATEGORIES:Athletics,Learners,Parents,Sports
ATTACH;FMTTYPE=image/jpeg:https://kingstreeps.org.za/wp-content/uploads/2026/01/kps-gala-dinner.jpeg
ORGANIZER;CN="Kingstree Private School":MAILTO:info@kingstreeps.org.za
END:VEVENT
END:VCALENDAR